BEGIN:VCALENDAR
VERSION:2.0
PRODID:-//Estación Las Palmas de Gran Canaria - ECPv6.15.17//NONSGML v1.0//EN
CALSCALE:GREGORIAN
METHOD:PUBLISH
X-WR-CALNAME:Estación Las Palmas de Gran Canaria
X-ORIGINAL-URL:https://lpaestacion.com
X-WR-CALDESC:Eventos para Estación Las Palmas de Gran Canaria
REFRESH-INTERVAL;VALUE=DURATION:PT1H
X-Robots-Tag:noindex
X-PUBLISHED-TTL:PT1H
BEGIN:VTIMEZONE
TZID:Atlantic/Canary
BEGIN:DAYLIGHT
TZOFFSETFROM:+0000
TZOFFSETTO:+0100
TZNAME:WEST
DTSTART:20240331T010000
END:DAYLIGHT
BEGIN:STANDARD
TZOFFSETFROM:+0100
TZOFFSETTO:+0000
TZNAME:WET
DTSTART:20241027T010000
END:STANDARD
BEGIN:DAYLIGHT
TZOFFSETFROM:+0000
TZOFFSETTO:+0100
TZNAME:WEST
DTSTART:20250330T010000
END:DAYLIGHT
BEGIN:STANDARD
TZOFFSETFROM:+0100
TZOFFSETTO:+0000
TZNAME:WET
DTSTART:20251026T010000
END:STANDARD
BEGIN:DAYLIGHT
TZOFFSETFROM:+0000
TZOFFSETTO:+0100
TZNAME:WEST
DTSTART:20260329T010000
END:DAYLIGHT
BEGIN:STANDARD
TZOFFSETFROM:+0100
TZOFFSETTO:+0000
TZNAME:WET
DTSTART:20261025T010000
END:STANDARD
END:VTIMEZONE
BEGIN:VEVENT
DTSTART;TZID=Atlantic/Canary:20250820T173000
DTEND;TZID=Atlantic/Canary:20250820T190000
DTSTAMP:20260420T104825
CREATED:20250801T084537Z
LAST-MODIFIED:20250820T101622Z
UID:10000268-1755711000-1755716400@lpaestacion.com
SUMMARY:Visita guiada al Puerto de Las Palmas desde el mar con CitySightseeing Boat
DESCRIPTION:La visita guiada al Puerto de Las Palmas en Guagua Turística es siempre una de las actividades con más éxito de LPA Estación. En esta ocasión\, te invitamos a conocer el Puerto de Las Palmas\, un espacio lleno de vida y de actividad los 365 días al año\, a bordo del nuevo barco de la empresa CitySightseeing. \nLes invitamos a descubrir de la mano de la guía de la Autoridad Portuaria y en este nuevo barco\, los diferentes puntos de interés del Puerto de Las Palmas. Conoceremos de primera mano su historia y también su operativa con el fin de comprender mejor el funcionamiento del mismo y analizar la trascendencia que tiene para el tejido productivo y social de la isla. \n¿Te atreves a embarcarte en esta actividad? \nPunto de encuentro: Muelle Wilson (detrás del CC El Muelle)\nFechas: Miércoles\, 20 de agosto\nHorario: 17:30 a 19:00h\nAforo máximo: 80 personas\nPrecio: 10\,00€ por persona\nIncluye: Visita guiada al Puerto de Las Palmas en el CitySightseeing Boat
URL:https://lpaestacion.com/evento/visita-guiada-al-puerto-desde-el-mar-con-citysightseeing-boat/
LOCATION:Muelle Wilson (detrás de CC El Muelle)\, Muelle Wilson\, Las Palmas de Gran Canaria\, 35007\, Spain
CATEGORIES:Experiencias
ATTACH;FMTTYPE=image/webp:https://lpaestacion.com/wp-content/uploads/2025/08/1_P_4412_35f3e2f3-5540-4556-8a05-6f6487f66e70.webp
END:VEVENT
END:VCALENDAR