BEGIN:VCALENDAR
VERSION:2.0
PRODID:-//Estación Las Palmas de Gran Canaria - ECPv6.15.17//NONSGML v1.0//EN
CALSCALE:GREGORIAN
METHOD:PUBLISH
X-ORIGINAL-URL:https://lpaestacion.com
X-WR-CALDESC:Eventos para Estación Las Palmas de Gran Canaria
REFRESH-INTERVAL;VALUE=DURATION:PT1H
X-Robots-Tag:noindex
X-PUBLISHED-TTL:PT1H
BEGIN:VTIMEZONE
TZID:Atlantic/Canary
BEGIN:DAYLIGHT
TZOFFSETFROM:+0000
TZOFFSETTO:+0100
TZNAME:WEST
DTSTART:20240331T010000
END:DAYLIGHT
BEGIN:STANDARD
TZOFFSETFROM:+0100
TZOFFSETTO:+0000
TZNAME:WET
DTSTART:20241027T010000
END:STANDARD
BEGIN:DAYLIGHT
TZOFFSETFROM:+0000
TZOFFSETTO:+0100
TZNAME:WEST
DTSTART:20250330T010000
END:DAYLIGHT
BEGIN:STANDARD
TZOFFSETFROM:+0100
TZOFFSETTO:+0000
TZNAME:WET
DTSTART:20251026T010000
END:STANDARD
BEGIN:DAYLIGHT
TZOFFSETFROM:+0000
TZOFFSETTO:+0100
TZNAME:WEST
DTSTART:20260329T010000
END:DAYLIGHT
BEGIN:STANDARD
TZOFFSETFROM:+0100
TZOFFSETTO:+0000
TZNAME:WET
DTSTART:20261025T010000
END:STANDARD
END:VTIMEZONE
BEGIN:VEVENT
DTSTART;TZID=Atlantic/Canary:20250820T100000
DTEND;TZID=Atlantic/Canary:20250820T143000
DTSTAMP:20260420T104856
CREATED:20250730T120459Z
LAST-MODIFIED:20250808T113607Z
UID:10000255-1755684000-1755700200@lpaestacion.com
SUMMARY:Descubre Sabores del Mundo con Productos de Gran Canaria: Un viaje gastronómico con visita al mercado y taller de cocina
DESCRIPTION:Te invitamos a participar en un evento culinario único que une tradición local y sabores exóticos. Nuestra experiencia comienza con una visita guiada al Mercado Central\, donde exploraremos juntos los productos frescos\, de temporada y de kilómetro cero que ofrece nuestra tierra. Será una oportunidad para conocer la riqueza y diversidad de los ingredientes locales de Gran Canaria\, así como su origen y sus cualidades. \nTras la visita\, pasaremos a la cocina para dar rienda suelta a la creatividad. En el taller culinario transformaremos los productos seleccionados en platos inspirados en cocinas del mundo\, fusionando lo local con lo internacional. Aprenderemos a preparar recetas como ceviches con sabor canario\, sushi reinterpretado con ingredientes insulares o curries tailandeses con un toque del Atlántico. Este taller no solo te permitirá mejorar tus habilidades en la cocina\, sino también conectar con la cultura gastronómica local desde una perspectiva global. Ideal para amantes de la cocina\, curiosos gastronómicos y todo aquel que quiera vivir una experiencia sensorial inolvidable. \nLa jornada se desarrollará de la siguiente manera: \n10:00h: Encuentro con el chef Luis Ortiz en la entrada principal del Mercado Central de Las Palmas de Gran Canaria \nDe 10:00 a 11:30h: Visita guiada al mercado explicando los productos que podemos encontrar \n11:30h: Traslado en bus desde el Mercado Central al taller de Komité \n12:00 a 14:00h: Taller de cocina en Komité \n14:15h: Traslado de regreso desde Komité al Mercado Central y fin de la actividad \nAtrévete a mezclar culturas\, texturas y sabores en un taller donde lo local se convierte en universal! \nPunto de encuentro: Mercado Central de Las Palmas de Gran Canaria (Calle Galicia\, 24)\nFechas: Miércoles\, 20 de agosto\nHorario: De 10:00h a 14:30 horas\nAforo máximo: 14 personas\nPrecio: 20\,00€ por persona\nIncluye: Visita guiada al Mercado Central con explicaciones a cargo del reconocido chef Luis Ortiz\, taller culinario en la sede de Komité\, productos para el taller y traslados ida y vuelta desde/hacia el Mercado Central.
URL:https://lpaestacion.com/evento/descubre-sabores-del-mundo-con-productos-de-gran-canaria-un-viaje-gastronomico-con-visita-a-mercado-y-taller-de-cocina/
LOCATION:Mercado Central de Las Palmas de Gran Canaria\, Calle Galicia\, 24\, Las Palmas de Gran Canaria\, Las Palmas\, 35006\, Spain
CATEGORIES:Experiencias,Gastronomía
ATTACH;FMTTYPE=image/png:https://lpaestacion.com/wp-content/uploads/2025/07/IMG_2434.png
END:VEVENT
END:VCALENDAR