BEGIN:VCALENDAR
VERSION:2.0
PRODID:-//Estación Las Palmas de Gran Canaria - ECPv6.15.17//NONSGML v1.0//EN
CALSCALE:GREGORIAN
METHOD:PUBLISH
X-WR-CALNAME:Estación Las Palmas de Gran Canaria
X-ORIGINAL-URL:https://lpaestacion.com
X-WR-CALDESC:Eventos para Estación Las Palmas de Gran Canaria
REFRESH-INTERVAL;VALUE=DURATION:PT1H
X-Robots-Tag:noindex
X-PUBLISHED-TTL:PT1H
BEGIN:VTIMEZONE
TZID:Atlantic/Canary
BEGIN:DAYLIGHT
TZOFFSETFROM:+0000
TZOFFSETTO:+0100
TZNAME:WEST
DTSTART:20230326T010000
END:DAYLIGHT
BEGIN:STANDARD
TZOFFSETFROM:+0100
TZOFFSETTO:+0000
TZNAME:WET
DTSTART:20231029T010000
END:STANDARD
BEGIN:DAYLIGHT
TZOFFSETFROM:+0000
TZOFFSETTO:+0100
TZNAME:WEST
DTSTART:20240331T010000
END:DAYLIGHT
BEGIN:STANDARD
TZOFFSETFROM:+0100
TZOFFSETTO:+0000
TZNAME:WET
DTSTART:20241027T010000
END:STANDARD
BEGIN:DAYLIGHT
TZOFFSETFROM:+0000
TZOFFSETTO:+0100
TZNAME:WEST
DTSTART:20250330T010000
END:DAYLIGHT
BEGIN:STANDARD
TZOFFSETFROM:+0100
TZOFFSETTO:+0000
TZNAME:WET
DTSTART:20251026T010000
END:STANDARD
END:VTIMEZONE
BEGIN:VEVENT
DTSTART;TZID=Atlantic/Canary:20241206T100000
DTEND;TZID=Atlantic/Canary:20241206T123000
DTSTAMP:20260423T111451
CREATED:20241119T172642Z
LAST-MODIFIED:20250710T120728Z
UID:10000236-1733479200-1733488200@lpaestacion.com
SUMMARY:Familiar: Cuentos en el Jardín Botánico
DESCRIPTION:En esta actividad familiar les proponemos disfrutar de un paseo guiado por el Jardín Botánico Viera y Clavijo (Jardín canario) de la mano de la narradora Loreto Socorro\, https://loretosocorro.com/\, que nos adentrará en un Jardín de cuentos donde nos envolverán las historias más curiosas y emotivas \nUna actividad de narración oral apta para todos los públicos en uno de los entornos más privilegiados de Las Palmas de Gran Canaria: El Jardín Botánico Viera y Clavijo. \nPunto de encuentro: Entrada zona inferior del Jardín Canario (Carretera El Dragonal a Almatriche)\nFechas: Viernes\, 6 de diciembre\nHorario: 10:00 a 12:30 horas\nAforo máximo: 30 personas\nPrecio: 10\,00€\nIncluye: Narración de Cuentos\, Seguro de RC y de accidentes\nOBSERVACIONES: Actividad familiar pensada para niños y niñas de 3 a 10 años acompañadas por un adulto. Necesaria la compra de entradas tanto para niños como para adultos. Participación gratuita de niños y niñas menores de 3 años\, aunque es necesario la adquisición de una entrada por control de aforo.
URL:https://lpaestacion.com/evento/familiar-cuentos-en-el-jardin-botanico/
LOCATION:Jardín Botánico Viera y Clavijo (entrada inferior)
CATEGORIES:Experiencias,Familiar
ATTACH;FMTTYPE=image/png:https://lpaestacion.com/wp-content/uploads/2023/08/Jardin-canario.png
END:VEVENT
END:VCALENDAR