BEGIN:VCALENDAR
VERSION:2.0
PRODID:-//Estación Las Palmas de Gran Canaria - ECPv6.15.17//NONSGML v1.0//EN
CALSCALE:GREGORIAN
METHOD:PUBLISH
X-ORIGINAL-URL:https://lpaestacion.com
X-WR-CALDESC:Eventos para Estación Las Palmas de Gran Canaria
REFRESH-INTERVAL;VALUE=DURATION:PT1H
X-Robots-Tag:noindex
X-PUBLISHED-TTL:PT1H
BEGIN:VTIMEZONE
TZID:Atlantic/Canary
BEGIN:DAYLIGHT
TZOFFSETFROM:+0000
TZOFFSETTO:+0100
TZNAME:WEST
DTSTART:20230326T010000
END:DAYLIGHT
BEGIN:STANDARD
TZOFFSETFROM:+0100
TZOFFSETTO:+0000
TZNAME:WET
DTSTART:20231029T010000
END:STANDARD
BEGIN:DAYLIGHT
TZOFFSETFROM:+0000
TZOFFSETTO:+0100
TZNAME:WEST
DTSTART:20240331T010000
END:DAYLIGHT
BEGIN:STANDARD
TZOFFSETFROM:+0100
TZOFFSETTO:+0000
TZNAME:WET
DTSTART:20241027T010000
END:STANDARD
BEGIN:DAYLIGHT
TZOFFSETFROM:+0000
TZOFFSETTO:+0100
TZNAME:WEST
DTSTART:20250330T010000
END:DAYLIGHT
BEGIN:STANDARD
TZOFFSETFROM:+0100
TZOFFSETTO:+0000
TZNAME:WET
DTSTART:20251026T010000
END:STANDARD
BEGIN:DAYLIGHT
TZOFFSETFROM:+0000
TZOFFSETTO:+0100
TZNAME:WEST
DTSTART:20260329T010000
END:DAYLIGHT
BEGIN:STANDARD
TZOFFSETFROM:+0100
TZOFFSETTO:+0000
TZNAME:WET
DTSTART:20261025T010000
END:STANDARD
END:VTIMEZONE
BEGIN:VEVENT
DTSTART;TZID=Atlantic/Canary:20250823T180000
DTEND;TZID=Atlantic/Canary:20250823T193000
DTSTAMP:20260420T103808
CREATED:20220727T003006Z
LAST-MODIFIED:20250801T094611Z
UID:10000190-1755972000-1755977400@lpaestacion.com
SUMMARY:Taller de estampación botánica en el Hotel Silken Saaj Las Palmas
DESCRIPTION:En este original taller aprenderemos a crear un original estampado en un pañuelo de seda natural. Para ello\, emplearemos elementos que nos aporta la naturaleza como hojas\, flores y nuestra cochinilla canaria. Este taller consta de dos fases: \n1º fase: presentación y creación del estampado\n2ª fase: fijación del color\, aclarado y secado del pañuelo \nAl finalizar el taller\, los participantes podrán llevarse un bonito pañuelo de seda natural y además podrán disfrutar de una estupenda merienda saludable ofrecida por el Hotel Silken Saaj Las Palmas. \nHotel: Silken Saaj Las Palmas\nFechas: Sábado\, 23 de agosto\nHorario: De 18:00 a 19:30h\nAforo máximo: 12 personas\nPrecio: 30\,00€ por persona\nIncluye: Taller de estampación botánica en pañuelos de seda y merienda saludable.
URL:https://lpaestacion.com/evento/taller-de-estampacion/
LOCATION:Hotel Silken SAAJ\, Calle León y Castillo\, 329\, Las Palmas\, Las Palmas\, 35006\, España
CATEGORIES:Experiencias,Gastronomía
ATTACH;FMTTYPE=image/jpeg:https://lpaestacion.com/wp-content/uploads/2025/07/IMG_0847-scaled.jpg
END:VEVENT
BEGIN:VEVENT
DTSTART;TZID=Atlantic/Canary:20250821T200000
DTEND;TZID=Atlantic/Canary:20250821T214500
DTSTAMP:20260420T103808
CREATED:20241119T143203Z
LAST-MODIFIED:20250814T141906Z
UID:10000231-1755806400-1755812700@lpaestacion.com
SUMMARY:La noche del bolero en el TAJ Rooftop & Lounge del Hotel Silken SAAJ
DESCRIPTION:Vive una noche inolvidable\, sumergido en las melodías\, pasajes\, frases y letras de obras conocidas por todos\, que despiertan en ti los más bellos y emotivos sentimientos\, transportándote en un viaje en el tiempo. Déjate llevar por la voz envolvente de la cantante Carmen Bautista & Cadencia\, mientras entona cautivadoras canciones de amor\, pasión y drama. Además de disfrutar de la actuación\, podrás degustar de la exquisita oferta culinaria y de bebidas TAJ Rooftop & Lounge. \nMENÚ (Incluye dos platos a elegir y un postre por persona):\n \nTabla de quesos canarios con almogrote y chutney de plátano\nJamón ibérico\nPapas arrugadas con sus mojos\nEnsaladilla rusa\nCroquetas de boletus trufadas\nTwister crujiente de langostinos con crema de almendras y tomate canario con miel de palma\nLagarto ibérico con salsa chimichurri y papas\nTarta de queso con mermelada de frutos rojos\nIncluye una copa de vino tinto o blanco de la casa\, caña o refresco y una botella de agua \nPunto de encuentro: TAJ Rooftop & Lounge\nHotel: Hotel Silken SAAJ\nFechas: Jueves\, 21 de agosto\nHorario: De 20:00h a 21:45 horas\nAforo máximo: 30 personas\nPrecio: 27\,00€ por persona\nIncluye: Espectáculo musical de boleros a cargo de Carmen Bautista y cena picoteo \nNota: En caso de querer disfrutar de esta experiencia compartiendo mesa con otros comensales\, por favor se ruega realizar una sola reserva conjunta incluyendo todos los comensales.
URL:https://lpaestacion.com/evento/noche-de-boleros-en-hotel-silken-saaj/
LOCATION:Hotel Silken SAAJ\, Calle León y Castillo\, 329\, Las Palmas\, Las Palmas\, 35006\, España
CATEGORIES:Experiencias,Gastronomía
ATTACH;FMTTYPE=image/jpeg:https://lpaestacion.com/wp-content/uploads/2025/07/La-noche-del-bolero-11-scaled.jpg
END:VEVENT
BEGIN:VEVENT
DTSTART;TZID=Atlantic/Canary:20241214T110000
DTEND;TZID=Atlantic/Canary:20241214T130000
DTSTAMP:20260420T103808
CREATED:20241119T143013Z
LAST-MODIFIED:20250710T120346Z
UID:10000230-1734174000-1734181200@lpaestacion.com
SUMMARY:Rooftop Pilates & Desayuno by Margot de El Centro en Hotel Silken SAAJ
DESCRIPTION:¿Qué mejor manera de disfrutar de un sábado que teniendo la ciudad a tus pies? \nDisfruta de una de las terrazas más impresionantes de Las Palmas de Gran Canaria a través de un entrenamiento dinámico al aire libre que despertará tus sentidos y te desafiará a ti mismo. \nEn esta clase de 60 minutos de Pilates Mat impartida por Margot de El Centro\, trabajarás tu postura y resistencia y tomarás conciencia de tu cuerpo. \nPunto de encuentro: TAJ Rooftop & Lounge del Hotel Silken SAAJ\nFechas: Sábado\, 14 de diciembre\nHorario: De 11:00 a 13:00 horas\nAforo máximo: 12 personas\nPrecio: 20\,00€ por persona\nIncluye: Sesión de pilates guiado por monitora profesional y desayuno saludable.
URL:https://lpaestacion.com/evento/rooftop-pilates-desayuno-by-margot-de-el-centro-en-hotel-silken-saaj/
LOCATION:Hotel Silken SAAJ\, Calle León y Castillo\, 329\, Las Palmas\, Las Palmas\, 35006\, España
CATEGORIES:Experiencias
ATTACH;FMTTYPE=image/jpeg:https://lpaestacion.com/wp-content/uploads/2024/11/Pilates-.jpg
END:VEVENT
BEGIN:VEVENT
DTSTART;TZID=Atlantic/Canary:20241211T160000
DTEND;TZID=Atlantic/Canary:20241211T190000
DTSTAMP:20260420T103808
CREATED:20241119T142709Z
LAST-MODIFIED:20250710T120504Z
UID:10000229-1733932800-1733943600@lpaestacion.com
SUMMARY:Taller de coronas navideñas en Hotel Silken SAAJ
DESCRIPTION:¡Sumérgete en la Magia Navideña en las alturas de Las Palmas! ✨🎄 \n¿Te gustaría aprender a crear una corona navideña única mientras disfrutas de una tarde mágica en uno de los lugares más exclusivos de Las Palmas? \nTe invitamos al Taller Navideño de Coronas en el Hotel Silken SAAJ Las Palmas. Una experiencia creativa y festiva en el espectacular Taj Rooftop & Lounge\, donde disfrutarás además de una deliciosa merienda navideña con vistas incomparables. \nPunto de encuentro: TAJ Rooftop & Lounge\nHotel: Hotel Silken SAAJ\nFechas: Miércoles\, 11 de diciembre\nHorario: De 16:00 a 19:00 horas\nAforo máximo: 10 personas\nPrecio: 35\,00€ por persona\nIncluye: Taller de coronas navideñas y merienda navideña
URL:https://lpaestacion.com/evento/taller-de-coronas-navidenas-en-hotel-silken-saaj/
LOCATION:Hotel Silken SAAJ\, Calle León y Castillo\, 329\, Las Palmas\, Las Palmas\, 35006\, España
CATEGORIES:Experiencias,Familiar
ATTACH;FMTTYPE=image/jpeg:https://lpaestacion.com/wp-content/uploads/2024/11/coronas-navidenas.jpg
END:VEVENT
END:VCALENDAR