BEGIN:VCALENDAR
VERSION:2.0
PRODID:-//Estación Las Palmas de Gran Canaria - ECPv6.15.17//NONSGML v1.0//EN
CALSCALE:GREGORIAN
METHOD:PUBLISH
X-ORIGINAL-URL:https://lpaestacion.com
X-WR-CALDESC:Eventos para Estación Las Palmas de Gran Canaria
REFRESH-INTERVAL;VALUE=DURATION:PT1H
X-Robots-Tag:noindex
X-PUBLISHED-TTL:PT1H
BEGIN:VTIMEZONE
TZID:Atlantic/Canary
BEGIN:DAYLIGHT
TZOFFSETFROM:+0000
TZOFFSETTO:+0100
TZNAME:WEST
DTSTART:20240331T010000
END:DAYLIGHT
BEGIN:STANDARD
TZOFFSETFROM:+0100
TZOFFSETTO:+0000
TZNAME:WET
DTSTART:20241027T010000
END:STANDARD
BEGIN:DAYLIGHT
TZOFFSETFROM:+0000
TZOFFSETTO:+0100
TZNAME:WEST
DTSTART:20250330T010000
END:DAYLIGHT
BEGIN:STANDARD
TZOFFSETFROM:+0100
TZOFFSETTO:+0000
TZNAME:WET
DTSTART:20251026T010000
END:STANDARD
BEGIN:DAYLIGHT
TZOFFSETFROM:+0000
TZOFFSETTO:+0100
TZNAME:WEST
DTSTART:20260329T010000
END:DAYLIGHT
BEGIN:STANDARD
TZOFFSETFROM:+0100
TZOFFSETTO:+0000
TZNAME:WET
DTSTART:20261025T010000
END:STANDARD
END:VTIMEZONE
BEGIN:VEVENT
DTSTART;TZID=Atlantic/Canary:20250822T193000
DTEND;TZID=Atlantic/Canary:20250822T210000
DTSTAMP:20260420T121218
CREATED:20250730T124040Z
LAST-MODIFIED:20250801T095508Z
UID:10000256-1755891000-1755896400@lpaestacion.com
SUMMARY:La Ruta de los Cuentos Prohibidos
DESCRIPTION:En 1804 se abre un juicio en la sede de la Inquisición de Las Palmas. ¿El motivo? Una denuncia sobre un libro de cuentos de La Fontaine prohibido hace más de cien años… ¿Quieres saber más? \nVen a esta ruta llena de historias de alto voltaje\, picantes o contra el poder y descubre los cuentos prohibidos de La Fontaine\, Boccaccio y más que nunca quisieron que escucharas\, por los rincones más encantadores de Triana y Vegueta. \nPunto de encuentro: Alameda de Colón\, en el busto a Cristóbal Colón\nFechas: Viernes\, 22 de agosto\nHorario: 19:30 a 21:00h\nAforo máximo: 30 personas\nPrecio: 10\,00€ por persona\nIncluye: Visita guiada a Vegueta a través de cuentos prohibidos \nNota: Ruta no apta para menores de 16 años. Se recomienda llevar calzado cómodo.
URL:https://lpaestacion.com/evento/la-ruta-de-los-cuentos-prohibidos/
LOCATION:Alameda de Colón
CATEGORIES:Experiencias
ATTACH;FMTTYPE=image/jpeg:https://lpaestacion.com/wp-content/uploads/2025/07/187.jpg
END:VEVENT
END:VCALENDAR