BEGIN:VCALENDAR
VERSION:2.0
PRODID:-//Estación Las Palmas de Gran Canaria - ECPv6.15.17//NONSGML v1.0//EN
CALSCALE:GREGORIAN
METHOD:PUBLISH
X-ORIGINAL-URL:https://lpaestacion.com
X-WR-CALDESC:Eventos para Estación Las Palmas de Gran Canaria
REFRESH-INTERVAL;VALUE=DURATION:PT1H
X-Robots-Tag:noindex
X-PUBLISHED-TTL:PT1H
BEGIN:VTIMEZONE
TZID:Atlantic/Canary
BEGIN:DAYLIGHT
TZOFFSETFROM:+0000
TZOFFSETTO:+0100
TZNAME:WEST
DTSTART:20230326T010000
END:DAYLIGHT
BEGIN:STANDARD
TZOFFSETFROM:+0100
TZOFFSETTO:+0000
TZNAME:WET
DTSTART:20231029T010000
END:STANDARD
BEGIN:DAYLIGHT
TZOFFSETFROM:+0000
TZOFFSETTO:+0100
TZNAME:WEST
DTSTART:20240331T010000
END:DAYLIGHT
BEGIN:STANDARD
TZOFFSETFROM:+0100
TZOFFSETTO:+0000
TZNAME:WET
DTSTART:20241027T010000
END:STANDARD
BEGIN:DAYLIGHT
TZOFFSETFROM:+0000
TZOFFSETTO:+0100
TZNAME:WEST
DTSTART:20250330T010000
END:DAYLIGHT
BEGIN:STANDARD
TZOFFSETFROM:+0100
TZOFFSETTO:+0000
TZNAME:WET
DTSTART:20251026T010000
END:STANDARD
END:VTIMEZONE
BEGIN:VEVENT
DTSTART;TZID=Atlantic/Canary:20241212T163000
DTEND;TZID=Atlantic/Canary:20241212T190000
DTSTAMP:20260419T201652
CREATED:20241119T172422Z
LAST-MODIFIED:20250710T120440Z
UID:10000235-1734021000-1734030000@lpaestacion.com
SUMMARY:Taller de coctelería en Talleres Palermo
DESCRIPTION:¿Te gustaría aprender a preparar los cócteles clásicos del bar\, comprender las técnicas de coctelería básica y descubrir como equilibrar los sabores? No hay mejor plan de cara a estas fiestas navideñas que aprender a crear tus propios cócteles en casa. \nHablaremos brevemente de la historia detrás de cada cóctel que elaboraremos\, qué tipo de vaso escoger para cada mezcla\, cómo agitarlos y enfriarlos y un largo etcétera para conseguir sorprender a nuestra familia y amigos en estas fiestas navideñas. \n¿Preparado para agitar la coctelera? \nPunto de encuentro: Talleres Palermo\nFechas: Jueves\, 12 de diciembre\nHorario: 16:30 a 19:00 horas\nAforo máximo: 20 personas\nPrecio: 20\,00€\nIncluye: Ingredientes (frutas frescas\, hierbas\, licores)\, utensilios de coctelería profesionales\, manual con recetas y técnicas básicas\, así como degustación de cada cóctel.
URL:https://lpaestacion.com/evento/taller-de-cocteleria-en-talleres-palermo/
LOCATION:Talleres Palermo\, Calle República Dominicana\, 18\, Las Palmas de Gran Canaria\, Las Palmas\, 35010\, España
CATEGORIES:Experiencias,Gastronomía
ATTACH;FMTTYPE=image/jpeg:https://lpaestacion.com/wp-content/uploads/2024/11/Cocteleria-Palermo-1.jpg
END:VEVENT
END:VCALENDAR